 
data_crhg06 
 
_audit_creation_method            SHELXL-97 
_chemical_name_systematic 
; 
 ? 
; 
_chemical_name_common             ? 
_chemical_formula_moiety          ? 
_chemical_formula_sum 
 'C4 H0 Br5 Cl0 Cr Hg1.50 N4 O2' 
_chemical_formula_weight          888.52 
 
loop_ 
 _atom_type_symbol 
 _atom_type_description 
 _atom_type_scat_dispersion_real 
 _atom_type_scat_dispersion_imag 
 _atom_type_scat_source 
 'C'  'C'   0.0033   0.0016 
 'International Tables Vol C Tables 4.2.6.8 and 6.1.1.4' 
 'H'  'H'   0.0000   0.0000 
 'International Tables Vol C Tables 4.2.6.8 and 6.1.1.4' 
 'N'  'N'   0.0061   0.0033 
 'International Tables Vol C Tables 4.2.6.8 and 6.1.1.4' 
 'O'  'O'   0.0106   0.0060 
 'International Tables Vol C Tables 4.2.6.8 and 6.1.1.4' 
 'Cl'  'Cl'   0.1484   0.1585 
 'International Tables Vol C Tables 4.2.6.8 and 6.1.1.4' 
 'Br'  'Br'  -0.2901   2.4595 
 'International Tables Vol C Tables 4.2.6.8 and 6.1.1.4' 
 'Cr'  'Cr'   0.3209   0.6236 
 'International Tables Vol C Tables 4.2.6.8 and 6.1.1.4' 
 'Hg'  'Hg'  -2.3894   9.2266 
 'International Tables Vol C Tables 4.2.6.8 and 6.1.1.4' 
 
_symmetry_cell_setting            ? 
_symmetry_space_group_name_H-M    ? 
 
loop_ 
 _symmetry_equiv_pos_as_xyz 
 'x, y, z' 
 '-x, -y, -z' 
 
_cell_length_a                    8.6625(5) 
_cell_length_b                    8.8228(15) 
_cell_length_c                    12.628(4) 
_cell_angle_alpha                 107.01(4) 
_cell_angle_beta                  96.691(16) 
_cell_angle_gamma                 98.489(9) 
_cell_volume                      899.7(3) 
_cell_formula_units_Z             2 
_cell_measurement_temperature     293(2) 
_cell_measurement_reflns_used     ? 
_cell_measurement_theta_min       ? 
_cell_measurement_theta_max       ? 
 
_exptl_crystal_description        ? 
_exptl_crystal_colour             ? 
_exptl_crystal_size_max           ? 
_exptl_crystal_size_mid           ? 
_exptl_crystal_size_min           ? 
_exptl_crystal_density_meas       ? 
_exptl_crystal_density_diffrn     3.280 
_exptl_crystal_density_method     'not measured' 
_exptl_crystal_F_000              774 
_exptl_absorpt_coefficient_mu     24.468 
_exptl_absorpt_correction_type    ? 
_exptl_absorpt_correction_T_min   ? 
_exptl_absorpt_correction_T_max   ? 
 
_exptl_special_details 
; 
 ? 
; 
 
_diffrn_ambient_temperature       293(2) 
_diffrn_radiation_wavelength      0.71069 
_diffrn_radiation_type            MoK\a 
_diffrn_radiation_source          'fine-focus sealed tube' 
_diffrn_radiation_monochromator   graphite 
_diffrn_measurement_device_type   ? 
_diffrn_measurement_method        ? 
_diffrn_detector_area_resol_mean  ? 
_diffrn_standards_number          ? 
_diffrn_standards_interval_count  ? 
_diffrn_standards_interval_time   ? 
_diffrn_standards_decay_%         ? 
_diffrn_reflns_number             3158 
_diffrn_reflns_av_R_equivalents   0.0000 
_diffrn_reflns_av_sigmaI/netI     0.0546 
_diffrn_reflns_limit_h_min        -10 
_diffrn_reflns_limit_h_max        10 
_diffrn_reflns_limit_k_min        -10 
_diffrn_reflns_limit_k_max        10 
_diffrn_reflns_limit_l_min        0 
_diffrn_reflns_limit_l_max        14 
_diffrn_reflns_theta_min          3.10 
_diffrn_reflns_theta_max          24.97 
_reflns_number_total              3158 
_reflns_number_gt                 2279 
_reflns_threshold_expression      >2sigma(I) 
 
_computing_data_collection        ? 
_computing_cell_refinement        ? 
_computing_data_reduction         ? 
_computing_structure_solution     'SHELXS-97 (Sheldrick, 1990)' 
_computing_structure_refinement   'SHELXL-97 (Sheldrick, 1997)' 
_computing_molecular_graphics     ? 
_computing_publication_material   ? 
 
_refine_special_details 
; 
 Refinement of F² against ALL reflections.  The weighted R-factor wR and 
 goodness of fit S are based on F², conventional R-factors R are based 
 on F, with F set to zero for negative F². The threshold expression of 
 F² > 2sigma(F²) is used only for calculating R-factors(gt) etc. and is 
 not relevant to the choice of reflections for refinement.  R-factors based 
 on F² are statistically about twice as large as those based on F, and R- 
 factors based on ALL data will be even larger. 
; 
 
_refine_ls_structure_factor_coef  Fsqd  
_refine_ls_matrix_type            full 
_refine_ls_weighting_scheme 
 'calc w=1/[\s^2^(Fo^2^)+(0.1729P)^2^+103.9276P] where P=(Fo^2^+2Fc^2^)/3' 
_atom_sites_solution_primary      direct 
_atom_sites_solution_secondary    difmap 
_atom_sites_solution_hydrogens    geom 
_refine_ls_hydrogen_treatment     mixed 
_refine_ls_extinction_method      none 
_refine_ls_extinction_coef        ? 
_refine_ls_number_reflns          3158 
_refine_ls_number_parameters      160 
_refine_ls_number_restraints      0 
_refine_ls_R_factor_all           0.1541 
_refine_ls_R_factor_gt            0.1142 
_refine_ls_wR_factor_ref          0.3443 
_refine_ls_wR_factor_gt           0.3019 
_refine_ls_goodness_of_fit_ref    1.055 
_refine_ls_restrained_S_all       1.055 
_refine_ls_shift/su_max           1.192 
_refine_ls_shift/su_mean          0.008 
 
loop_ 
 _atom_site_label 
 _atom_site_type_symbol 
 _atom_site_fract_x 
 _atom_site_fract_y 
 _atom_site_fract_z 
 _atom_site_U_iso_or_equiv 
 _atom_site_adp_type 
 _atom_site_occupancy 
 _atom_site_calc_flag 
 _atom_site_refinement_flags 
 _atom_site_disorder_assembly 
 _atom_site_disorder_group 
Hg1 Hg 0.0000 0.0000 0.0000 0.0768(10) Uani 1 d S . . 
Hg2 Hg 0.0721(2) 0.1132(3) 0.34923(18) 0.0916(9) Uani 1 d . . . 
Br1 Br -0.3711(4) -0.1958(5) 0.5684(3) 0.0502(10) Uani 1 d . . . 
Br2 Br -0.2826(4) 0.0184(4) -0.0054(3) 0.0454(9) Uani 1 d . . . 
Br3 Br -0.0992(5) 0.1929(6) 0.4996(3) 0.0584(11) Uani 1 d . . . 
Br4 Br -0.0125(4) -0.1582(4) 0.1911(3) 0.0454(9) Uani 1 d . . . 
Br5 Br 0.0779(4) 0.3270(5) 1.2134(3) 0.0559(10) Uani 1 d . . . 
Cr1 Cr 0.4490(4) 0.4824(5) 0.8109(3) 0.0177(9) Uani 1 d . . . 
N11 N 0.250(3) 0.415(4) 0.694(2) 0.042(7) Uani 1 d . . . 
C11 C 0.252(4) 0.541(3) 0.639(2) 0.031(7) Uani 1 d . . . 
C12 C 0.323(4) 0.703(4) 0.722(3) 0.046(8) Uani 1 d . . . 
N12 N 0.476(3) 0.691(3) 0.783(2) 0.037(6) Uani 1 d . . . 
N21 N 0.421(3) 0.273(3) 0.840(2) 0.037(6) Uani 1 d . . . 
C21 C 0.481(4) 0.156(4) 0.745(3) 0.044(8) Uani 1 d . . . 
C22 C 0.618(4) 0.242(4) 0.716(3) 0.045(8) Uani 1 d . . . 
N22 N 0.572(3) 0.391(3) 0.698(2) 0.043(7) Uani 1 d . . . 
O10 O 0.329(3) 0.564(3) 0.9273(16) 0.042(5) Uani 1 d . . . 
O20 O 0.636(3) 0.563(3) 0.9235(15) 0.040(5) Uani 1 d . . . 
 
loop_ 
 _atom_site_aniso_label 
 _atom_site_aniso_U_11 
 _atom_site_aniso_U_22 
 _atom_site_aniso_U_33 
 _atom_site_aniso_U_23 
 _atom_site_aniso_U_13 
 _atom_site_aniso_U_12 
Hg1 0.0357(11) 0.148(3) 0.0754(18) 0.0706(18) 0.0189(10) 0.0275(13) 
Hg2 0.0476(10) 0.1149(17) 0.0743(14) -0.0199(12) 0.0019(8) 0.0056(9) 
Br1 0.0457(18) 0.071(2) 0.0204(17) 0.0008(15) 0.0034(13) 0.0002(16) 
Br2 0.0333(15) 0.061(2) 0.0313(18) 0.0013(15) 0.0019(12) 0.0066(14) 
Br3 0.060(2) 0.092(3) 0.043(2) 0.043(2) 0.0162(17) 0.022(2) 
Br4 0.0450(17) 0.059(2) 0.0320(18) 0.0209(16) 0.0004(13) -0.0014(14) 
Br5 0.0450(19) 0.062(2) 0.052(2) 0.0116(18) 0.0138(16) -0.0079(16) 
Cr1 0.0237(19) 0.029(2) 0.0000(17) 0.0077(15) 0.0002(14) 0.0001(15) 
N11 0.049(15) 0.069(18) 0.026(14) 0.043(14) 0.003(11) 0.013(13) 
C11 0.051(17) 0.035(15) 0.006(13) 0.017(12) -0.009(11) -0.007(12) 
C12 0.038(16) 0.06(2) 0.04(2) 0.016(16) 0.003(14) 0.000(14) 
N12 0.055(15) 0.037(13) 0.018(13) 0.005(11) 0.000(11) 0.015(12) 
N21 0.053(15) 0.047(15) 0.018(13) 0.012(11) 0.012(11) 0.019(12) 
C21 0.08(2) 0.031(15) 0.032(18) 0.020(14) 0.014(16) 0.006(15) 
C22 0.07(2) 0.051(19) 0.030(18) 0.026(16) 0.022(16) 0.017(16) 
N22 0.046(15) 0.048(15) 0.021(14) -0.007(12) 0.009(11) 0.002(12) 
O10 0.066(14) 0.065(14) 0.009(10) 0.023(10) 0.017(9) 0.024(12) 
O20 0.062(13) 0.058(13) 0.002(9) 0.021(9) 0.001(9) -0.004(11) 
 
_geom_special_details 
; 
 All esds (except the esd in the dihedral angle between two l.s. planes) 
 are estimated using the full covariance matrix.  The cell esds are taken 
 into account individually in the estimation of esds in distances, angles 
 and torsion angles; correlations between esds in cell parameters are only 
 used when they are defined by crystal symmetry.  An approximate (isotropic) 
 treatment of cell esds is used for estimating esds involving l.s. planes. 
; 
 
loop_ 
 _geom_bond_atom_site_label_1 
 _geom_bond_atom_site_label_2 
 _geom_bond_distance 
 _geom_bond_site_symmetry_2 
 _geom_bond_publ_flag 
Hg1 Br2 2.472(3) 2 ? 
Hg1 Br2 2.472(3) . ? 
Hg1 Br4 3.125(3) . ? 
Hg1 Br4 3.125(3) 2 ? 
Hg2 Br3 2.546(4) . ? 
Hg2 Br4 2.569(4) . ? 
Hg2 Br1 2.588(4) 2_556 ? 
Hg2 Br5 2.896(5) 1_554 ? 
Br1 Hg2 2.588(4) 2_556 ? 
Br5 Hg2 2.896(5) 1_556 ? 
Cr1 O20 1.92(2) . ? 
Cr1 O10 1.93(2) . ? 
Cr1 N22 1.94(3) . ? 
Cr1 N12 1.96(3) . ? 
Cr1 N21 1.97(3) . ? 
Cr1 N11 2.02(3) . ? 
N11 C11 1.47(3) . ? 
C11 C12 1.49(4) . ? 
C12 N12 1.49(4) . ? 
N21 C21 1.53(4) . ? 
C21 C22 1.45(5) . ? 
C22 N22 1.50(4) . ? 
 
loop_ 
 _geom_angle_atom_site_label_1 
 _geom_angle_atom_site_label_2 
 _geom_angle_atom_site_label_3 
 _geom_angle 
 _geom_angle_site_symmetry_1 
 _geom_angle_site_symmetry_3 
 _geom_angle_publ_flag 
Br2 Hg1 Br2 180.0 2 . ? 
Br2 Hg1 Br4 89.37(11) 2 . ? 
Br2 Hg1 Br4 90.63(11) . . ? 
Br2 Hg1 Br4 90.63(11) 2 2 ? 
Br2 Hg1 Br4 89.37(11) . 2 ? 
Br4 Hg1 Br4 180.0 . 2 ? 
Br3 Hg2 Br4 120.09(15) . . ? 
Br3 Hg2 Br1 112.09(14) . 2_556 ? 
Br4 Hg2 Br1 115.68(13) . 2_556 ? 
Br3 Hg2 Br5 110.64(14) . 1_554 ? 
Br4 Hg2 Br5 98.81(13) . 1_554 ? 
Br1 Hg2 Br5 95.36(13) 2_556 1_554 ? 
Hg2 Br4 Hg1 93.81(12) . . ? 
O20 Cr1 O10 87.7(10) . . ? 
O20 Cr1 N22 91.1(11) . . ? 
O10 Cr1 N22 176.8(11) . . ? 
O20 Cr1 N12 89.2(10) . . ? 
O10 Cr1 N12 89.6(10) . . ? 
N22 Cr1 N12 93.3(12) . . ? 
O20 Cr1 N21 90.8(10) . . ? 
O10 Cr1 N21 90.1(10) . . ? 
N22 Cr1 N21 87.0(11) . . ? 
N12 Cr1 N21 179.7(10) . . ? 
O20 Cr1 N11 175.7(11) . . ? 
O10 Cr1 N11 90.5(11) . . ? 
N22 Cr1 N11 91.0(12) . . ? 
N12 Cr1 N11 87.0(10) . . ? 
N21 Cr1 N11 93.0(11) . . ? 
C11 N11 Cr1 106.4(18) . . ? 
N11 C11 C12 110(2) . . ? 
N12 C12 C11 108(3) . . ? 
C12 N12 Cr1 108(2) . . ? 
C21 N21 Cr1 106.6(17) . . ? 
C22 C21 N21 109(3) . . ? 
C21 C22 N22 107(3) . . ? 
C22 N22 Cr1 109(2) . . ? 
 
_diffrn_measured_fraction_theta_max    0.998 
_diffrn_reflns_theta_full              24.97 
_diffrn_measured_fraction_theta_full   0.998 
_refine_diff_density_max   10.167 
_refine_diff_density_min   -7.771 
_refine_diff_density_rms    0.559 
