 
data_cohg06 
 
_audit_creation_method            SHELXL-97 
_chemical_name_systematic 
; 
 ? 
; 
_chemical_name_common             ? 
_chemical_formula_moiety          ? 
_chemical_formula_sum 
 'H0 Cl3 Co Hg N6 O4' 
_chemical_formula_weight          513.93 
 
loop_ 
 _atom_type_symbol 
 _atom_type_description 
 _atom_type_scat_dispersion_real 
 _atom_type_scat_dispersion_imag 
 _atom_type_scat_source 
 'H'  'H'   0.0000   0.0000 
 'International Tables Vol C Tables 4.2.6.8 and 6.1.1.4' 
 'N'  'N'   0.0061   0.0033 
 'International Tables Vol C Tables 4.2.6.8 and 6.1.1.4' 
 'O'  'O'   0.0106   0.0060 
 'International Tables Vol C Tables 4.2.6.8 and 6.1.1.4' 
 'Cl'  'Cl'   0.1484   0.1585 
 'International Tables Vol C Tables 4.2.6.8 and 6.1.1.4' 
 'Co'  'Co'   0.3494   0.9721 
 'International Tables Vol C Tables 4.2.6.8 and 6.1.1.4' 
 'Hg'  'Hg'  -2.3894   9.2266 
 'International Tables Vol C Tables 4.2.6.8 and 6.1.1.4' 
 
_symmetry_cell_setting            ? 
_symmetry_space_group_name_H-M    ? 
 
loop_ 
 _symmetry_equiv_pos_as_xyz 
 'x, y, z' 
 '-x+1/2, -y, z+1/2' 
 '-x, y+1/2, -z+1/2' 
 'x+1/2, -y+1/2, -z' 
 
_cell_length_a                    6.7320(10) 
_cell_length_b                    11.0515(10) 
_cell_length_c                    16.359(4) 
_cell_angle_alpha                 90.00 
_cell_angle_beta                  90.00 
_cell_angle_gamma                 90.00 
_cell_volume                      1217.1(4) 
_cell_formula_units_Z             4 
_cell_measurement_temperature     293(2) 
_cell_measurement_reflns_used     ? 
_cell_measurement_theta_min       ? 
_cell_measurement_theta_max       ? 
 
_exptl_crystal_description        ? 
_exptl_crystal_colour             ? 
_exptl_crystal_size_max           ? 
_exptl_crystal_size_mid           ? 
_exptl_crystal_size_min           ? 
_exptl_crystal_density_meas       ? 
_exptl_crystal_density_diffrn     2.805 
_exptl_crystal_density_method     'not measured' 
_exptl_crystal_F_000              928 
_exptl_absorpt_coefficient_mu     14.622 
_exptl_absorpt_correction_type    ? 
_exptl_absorpt_correction_T_min   ? 
_exptl_absorpt_correction_T_max   ? 
 
_exptl_special_details 
; 
 ? 
; 
 
_diffrn_ambient_temperature       293(2) 
_diffrn_radiation_wavelength      0.71069 
_diffrn_radiation_type            MoK\a 
_diffrn_radiation_source          'fine-focus sealed tube' 
_diffrn_radiation_monochromator   graphite 
_diffrn_measurement_device_type   ? 
_diffrn_measurement_method        ? 
_diffrn_detector_area_resol_mean  ? 
_diffrn_standards_number          ? 
_diffrn_standards_interval_count  ? 
_diffrn_standards_interval_time   ? 
_diffrn_standards_decay_%         ? 
_diffrn_reflns_number             2518 
_diffrn_reflns_av_R_equivalents   0.0296 
_diffrn_reflns_av_sigmaI/netI     0.0522 
_diffrn_reflns_limit_h_min        -8 
_diffrn_reflns_limit_h_max        8 
_diffrn_reflns_limit_k_min        0 
_diffrn_reflns_limit_k_max        13 
_diffrn_reflns_limit_l_min        0 
_diffrn_reflns_limit_l_max        19 
_diffrn_reflns_theta_min          3.10 
_diffrn_reflns_theta_max          24.98 
_reflns_number_total              2138 
_reflns_number_gt                 1864 
_reflns_threshold_expression      >2sigma(I) 
 
_computing_data_collection        ? 
_computing_cell_refinement        ? 
_computing_data_reduction         ? 
_computing_structure_solution     'SHELXS-97 (Sheldrick, 1990)' 
_computing_structure_refinement   'SHELXL-97 (Sheldrick, 1997)' 
_computing_molecular_graphics     ? 
_computing_publication_material   ? 
 
_refine_special_details 
; 
 Refinement of F² against ALL reflections.  The weighted R-factor wR and 
 goodness of fit S are based on F², conventional R-factors R are based 
 on F, with F set to zero for negative F². The threshold expression of 
 F² > 2sigma(F²) is used only for calculating R-factors(gt) etc. and is 
 not relevant to the choice of reflections for refinement.  R-factors based 
 on F² are statistically about twice as large as those based on F, and R- 
 factors based on ALL data will be even larger. 
; 
 
_refine_ls_structure_factor_coef  Fsqd  
_refine_ls_matrix_type            full 
_refine_ls_weighting_scheme 
 'calc w=1/[\s^2^(Fo^2^)+(0.0831P)^2^+8.3266P] where P=(Fo^2^+2Fc^2^)/3' 
_atom_sites_solution_primary      direct 
_atom_sites_solution_secondary    difmap 
_atom_sites_solution_hydrogens    geom 
_refine_ls_hydrogen_treatment     mixed 
_refine_ls_extinction_method      none 
_refine_ls_extinction_coef        ? 
_refine_ls_abs_structure_details 
 'Flack H D (1983), Acta Cryst. A39, 876-881' 
_refine_ls_abs_structure_Flack    -0.01(2) 
_refine_ls_number_reflns          2138 
_refine_ls_number_parameters      136 
_refine_ls_number_restraints      0 
_refine_ls_R_factor_all           0.0726 
_refine_ls_R_factor_gt            0.0584 
_refine_ls_wR_factor_ref          0.1521 
_refine_ls_wR_factor_gt           0.1412 
_refine_ls_goodness_of_fit_ref    1.144 
_refine_ls_restrained_S_all       1.144 
_refine_ls_shift/su_max           0.000 
_refine_ls_shift/su_mean          0.000 
 
loop_ 
 _atom_site_label 
 _atom_site_type_symbol 
 _atom_site_fract_x 
 _atom_site_fract_y 
 _atom_site_fract_z 
 _atom_site_U_iso_or_equiv 
 _atom_site_adp_type 
 _atom_site_occupancy 
 _atom_site_calc_flag 
 _atom_site_refinement_flags 
 _atom_site_disorder_assembly 
 _atom_site_disorder_group 
Hg Hg 0.73753(12) 0.82567(6) 0.94465(4) 0.0400(3) Uani 1 d . . . 
Cl1 Cl 0.2612(7) 0.2021(3) 0.6758(2) 0.0288(8) Uani 1 d . . . 
Cl2 Cl 0.1597(7) 0.1539(4) 0.4517(3) 0.0326(9) Uani 1 d . . . 
Cl3 Cl 0.1672(8) 0.5005(4) 0.4844(3) 0.0420(12) Uani 1 d . . . 
Co Co 0.7877(2) 1.31007(15) 0.82660(11) 0.0124(4) Uani 1 d . . . 
N1 N -0.0181(18) 0.4131(11) 0.7749(8) 0.017(3) Uani 1 d . . . 
O11 O -0.060(2) 0.4605(12) 0.7088(8) 0.037(3) Uani 1 d . . . 
O12 O 0.1438(19) 0.4322(11) 0.8073(8) 0.036(3) Uani 1 d . . . 
N2 N -0.416(2) 0.2097(13) 0.8777(9) 0.029(3) Uani 1 d . . . 
O21 O -0.493(3) 0.2355(14) 0.9415(11) 0.082(7) Uani 1 d . . . 
O22 O -0.465(3) 0.1118(17) 0.8445(9) 0.087(7) Uani 1 d . . . 
N3 N -0.225(2) 0.2121(11) 0.7262(7) 0.024(3) Uani 1 d . . . 
N4 N -0.424(2) 0.4118(15) 0.7837(10) 0.030(4) Uani 1 d . . . 
N5 N 0.000(2) 0.2060(13) 0.8711(10) 0.031(4) Uani 1 d . . . 
N6 N -0.192(2) 0.4131(12) 0.9243(8) 0.032(4) Uani 1 d . . . 
 
loop_ 
 _atom_site_aniso_label 
 _atom_site_aniso_U_11 
 _atom_site_aniso_U_22 
 _atom_site_aniso_U_33 
 _atom_site_aniso_U_23 
 _atom_site_aniso_U_13 
 _atom_site_aniso_U_12 
Hg 0.0495(5) 0.0351(4) 0.0353(4) -0.0169(3) -0.0076(4) 0.0004(4) 
Cl1 0.036(2) 0.0288(16) 0.0216(17) 0.0074(15) 0.010(2) 0.003(2) 
Cl2 0.035(2) 0.033(2) 0.030(2) 0.0011(19) -0.0069(19) 0.0030(17) 
Cl3 0.046(3) 0.037(2) 0.043(3) 0.015(2) -0.005(2) 0.008(2) 
Co 0.0111(9) 0.0123(8) 0.0139(8) 0.0003(7) 0.0003(7) -0.0014(8) 
N1 0.014(7) 0.013(6) 0.024(7) 0.005(6) 0.007(6) -0.007(5) 
O11 0.039(8) 0.037(7) 0.035(7) 0.014(6) 0.016(6) -0.006(6) 
O12 0.027(7) 0.040(7) 0.042(8) -0.009(6) -0.012(6) -0.019(6) 
N2 0.030(8) 0.032(9) 0.026(8) 0.019(7) 0.004(6) 0.002(6) 
O21 0.108(16) 0.053(10) 0.084(14) -0.023(10) 0.080(13) -0.033(10) 
O22 0.136(18) 0.092(12) 0.033(9) -0.013(9) 0.010(10) -0.098(13) 
N3 0.028(7) 0.024(6) 0.021(6) -0.010(5) -0.014(6) -0.007(6) 
N4 0.013(7) 0.038(9) 0.039(9) 0.002(8) -0.005(6) 0.002(6) 
N5 0.026(8) 0.024(8) 0.041(9) 0.002(7) -0.009(7) 0.005(6) 
N6 0.053(10) 0.021(6) 0.023(7) -0.010(6) 0.002(7) 0.003(6) 
 
_geom_special_details 
; 
 All esds (except the esd in the dihedral angle between two l.s. planes) 
 are estimated using the full covariance matrix.  The cell esds are taken 
 into account individually in the estimation of esds in distances, angles 
 and torsion angles; correlations between esds in cell parameters are only 
 used when they are defined by crystal symmetry.  An approximate (isotropic) 
 treatment of cell esds is used for estimating esds involving l.s. planes. 
; 
 
loop_ 
 _geom_bond_atom_site_label_1 
 _geom_bond_atom_site_label_2 
 _geom_bond_distance 
 _geom_bond_site_symmetry_2 
 _geom_bond_publ_flag 
Hg Cl3 2.344(4) 3_656 ? 
Hg Cl1 2.397(3) 3_656 ? 
Hg Cl2 2.638(4) 3_656 ? 
Hg Cl2 2.686(5) 2_565 ? 
Cl1 Hg 2.397(3) 3_646 ? 
Cl2 Hg 2.638(4) 3_646 ? 
Cl2 Hg 2.686(4) 2_564 ? 
Cl3 Hg 2.344(4) 3_646 ? 
Co N1 1.929(12) 1_665 ? 
Co N4 1.945(15) 1_665 ? 
Co N2 1.950(14) 1_665 ? 
Co N6 1.967(13) 1_665 ? 
Co N3 1.969(11) 1_665 ? 
Co N5 1.973(14) 1_665 ? 
N1 O12 1.231(18) . ? 
N1 O11 1.233(18) . ? 
N1 Co 1.929(12) 1_445 ? 
N2 O21 1.20(2) . ? 
N2 O22 1.25(2) . ? 
N2 Co 1.950(14) 1_445 ? 
N3 Co 1.969(11) 1_445 ? 
N4 Co 1.945(14) 1_445 ? 
N5 Co 1.973(14) 1_445 ? 
N6 Co 1.967(13) 1_445 ? 
 
loop_ 
 _geom_angle_atom_site_label_1 
 _geom_angle_atom_site_label_2 
 _geom_angle_atom_site_label_3 
 _geom_angle 
 _geom_angle_site_symmetry_1 
 _geom_angle_site_symmetry_3 
 _geom_angle_publ_flag 
Cl3 Hg Cl1 151.12(16) 3_656 3_656 ? 
Cl3 Hg Cl2 101.73(16) 3_656 3_656 ? 
Cl1 Hg Cl2 96.77(13) 3_656 3_656 ? 
Cl3 Hg Cl2 100.49(16) 3_656 2_565 ? 
Cl1 Hg Cl2 94.96(15) 3_656 2_565 ? 
Cl2 Hg Cl2 107.10(12) 3_656 2_565 ? 
Hg Cl2 Hg 103.17(15) 3_646 2_564 ? 
N1 Co N4 89.8(5) 1_665 1_665 ? 
N1 Co N2 178.0(6) 1_665 1_665 ? 
N4 Co N2 88.3(6) 1_665 1_665 ? 
N1 Co N6 88.2(6) 1_665 1_665 ? 
N4 Co N6 90.5(6) 1_665 1_665 ? 
N2 Co N6 91.7(6) 1_665 1_665 ? 
N1 Co N3 89.3(6) 1_665 1_665 ? 
N4 Co N3 89.2(6) 1_665 1_665 ? 
N2 Co N3 90.9(6) 1_665 1_665 ? 
N6 Co N3 177.4(6) 1_665 1_665 ? 
N1 Co N5 90.9(6) 1_665 1_665 ? 
N4 Co N5 179.3(7) 1_665 1_665 ? 
N2 Co N5 91.1(6) 1_665 1_665 ? 
N6 Co N5 89.3(6) 1_665 1_665 ? 
N3 Co N5 91.0(6) 1_665 1_665 ? 
O12 N1 O11 120.4(13) . . ? 
O12 N1 Co 120.8(11) . 1_445 ? 
O11 N1 Co 118.8(11) . 1_445 ? 
O21 N2 O22 117.9(16) . . ? 
O21 N2 Co 122.8(13) . 1_445 ? 
O22 N2 Co 119.3(13) . 1_445 ? 
 
_diffrn_measured_fraction_theta_max    0.998 
_diffrn_reflns_theta_full              24.98 
_diffrn_measured_fraction_theta_full   0.998 
_refine_diff_density_max    1.224 
_refine_diff_density_min   -2.657 
_refine_diff_density_rms    0.450 
